BEGIN:VCALENDAR
VERSION:2.0
PRODID:-//Barnes Infant Academy - ECPv6.13.2.1//NONSGML v1.0//EN
CALSCALE:GREGORIAN
METHOD:PUBLISH
X-ORIGINAL-URL:https://barnesinfant.org.uk
X-WR-CALDESC:Events for Barnes Infant Academy
REFRESH-INTERVAL;VALUE=DURATION:PT1H
X-Robots-Tag:noindex
X-PUBLISHED-TTL:PT1H
BEGIN:VTIMEZONE
TZID:UTC
BEGIN:STANDARD
TZOFFSETFROM:+0000
TZOFFSETTO:+0000
TZNAME:UTC
DTSTART:20240101T000000
END:STANDARD
END:VTIMEZONE
BEGIN:VEVENT
DTSTART;VALUE=DATE:20241105
DTEND;VALUE=DATE:20241106
DTSTAMP:20260421T095551
CREATED:20240930T090249Z
LAST-MODIFIED:20240930T090249Z
UID:4670-1730764800-1730851199@barnesinfant.org.uk
SUMMARY:School Photos 2024
DESCRIPTION:
URL:https://barnesinfant.org.uk/event/school-photos-2024/
END:VEVENT
END:VCALENDAR